BEGIN:VCALENDAR
VERSION:2.0
PRODID:-//https://devijflelies.nl///NONSGML kigkonsult.se iCalcreator 2.10.15//
METHOD:PUBLISH
BEGIN:VEVENT
UID:20260425T172009UTC-1778lHCUpv@https://devijflelies.nl/
DTSTAMP:20260425T172009Z
DESCRIPTION: https://devijflelies.nl/agenda/evenement/1165-streefkerkse-kor
 en
DTSTART:20260729T160000Z
DTEND:20260729T215700Z
LOCATION:Dorpshuis De Vijf Lelies (Kerkstraat 33 2959 BS Streefkerk)
SUMMARY:Streefkerkse koren
URL:https://devijflelies.nl/agenda/evenement/1165-streefkerkse-koren
END:VEVENT
END:VCALENDAR
