BEGIN:VCALENDAR
VERSION:2.0
PRODID:-//https://devijflelies.nl///NONSGML kigkonsult.se iCalcreator 2.10.15//
METHOD:PUBLISH
BEGIN:VEVENT
UID:20260422T073013UTC-0379DDbst2@https://devijflelies.nl/
DTSTAMP:20260422T073013Z
DESCRIPTION: https://devijflelies.nl/agenda/evenement/1159-streefkerkse-kor
 en
DTSTART:20260617T160000Z
DTEND:20260617T215700Z
LOCATION:Dorpshuis De Vijf Lelies (Kerkstraat 33 2959 BS Streefkerk)
SUMMARY:Streefkerkse koren
URL:https://devijflelies.nl/agenda/evenement/1159-streefkerkse-koren
END:VEVENT
END:VCALENDAR
