BEGIN:VCALENDAR
VERSION:2.0
PRODID:-//https://devijflelies.nl///NONSGML kigkonsult.se iCalcreator 2.10.15//
METHOD:PUBLISH
BEGIN:VEVENT
UID:20260421T185058UTC-5659EwgCN4@https://devijflelies.nl/
DTSTAMP:20260421T185058Z
DESCRIPTION: https://devijflelies.nl/agenda/evenement/1158-streefkerkse-kor
 en
DTSTART:20260610T160000Z
DTEND:20260610T215700Z
LOCATION:Dorpshuis De Vijf Lelies (Kerkstraat 33 2959 BS Streefkerk)
SUMMARY:Streefkerkse koren
URL:https://devijflelies.nl/agenda/evenement/1158-streefkerkse-koren
END:VEVENT
END:VCALENDAR
