BEGIN:VCALENDAR
VERSION:2.0
PRODID:-//https://devijflelies.nl///NONSGML kigkonsult.se iCalcreator 2.10.15//
METHOD:PUBLISH
BEGIN:VEVENT
UID:20260420T205459UTC-0673VaXIpU@https://devijflelies.nl/
DTSTAMP:20260420T205459Z
DESCRIPTION: https://devijflelies.nl/agenda/evenement/1256-optie-cpj-feest
DTSTART:20260529T220000Z
DTEND:20260530T215959Z
LOCATION:Dorpshuis De Vijf Lelies (Kerkstraat 33 2959 BS Streefkerk)
SUMMARY:optie cpj feest
URL:https://devijflelies.nl/agenda/evenement/1256-optie-cpj-feest
END:VEVENT
END:VCALENDAR
