BEGIN:VCALENDAR
VERSION:2.0
PRODID:-//https://devijflelies.nl///NONSGML kigkonsult.se iCalcreator 2.10.15//
METHOD:PUBLISH
BEGIN:VEVENT
UID:20260420T153020UTC-3179XgVWc5@https://devijflelies.nl/
DTSTAMP:20260420T153020Z
DESCRIPTION: https://devijflelies.nl/agenda/evenement/1156-streefkerkse-kor
 en
DTSTART:20260527T160000Z
DTEND:20260527T215700Z
LOCATION:Dorpshuis De Vijf Lelies (Kerkstraat 33 2959 BS Streefkerk)
SUMMARY:Streefkerkse koren
URL:https://devijflelies.nl/agenda/evenement/1156-streefkerkse-koren
END:VEVENT
END:VCALENDAR
