BEGIN:VCALENDAR
VERSION:2.0
PRODID:-//https://devijflelies.nl///NONSGML kigkonsult.se iCalcreator 2.10.15//
METHOD:PUBLISH
BEGIN:VEVENT
UID:20260419T125257UTC-58040ikx9o@https://devijflelies.nl/
DTSTAMP:20260419T125257Z
DESCRIPTION: https://devijflelies.nl/agenda/evenement/1154-streefkerkse-kor
 en
DTSTART:20260513T160000Z
DTEND:20260513T215700Z
LOCATION:Dorpshuis De Vijf Lelies (Kerkstraat 33 2959 BS Streefkerk)
SUMMARY:Streefkerkse koren
URL:https://devijflelies.nl/agenda/evenement/1154-streefkerkse-koren
END:VEVENT
END:VCALENDAR
